Package: tripr Version: 1.12.0 Command: /Library/Frameworks/R.framework/Resources/bin/R CMD build --keep-empty-dirs --no-resave-data tripr StartedAt: 2025-01-28 09:47:14 -0500 (Tue, 28 Jan 2025) EndedAt: 2025-01-28 09:48:06 -0500 (Tue, 28 Jan 2025) EllapsedTime: 51.6 seconds RetCode: 0 Status: OK PackageFile: tripr_1.12.0.tar.gz PackageFileSize: 2.938 MiB