Package: triplex Version: 1.46.0 Command: /Library/Frameworks/R.framework/Resources/bin/R CMD build --keep-empty-dirs --no-resave-data triplex StartedAt: 2025-01-27 23:17:43 -0500 (Mon, 27 Jan 2025) EndedAt: 2025-01-27 23:18:59 -0500 (Mon, 27 Jan 2025) EllapsedTime: 75.4 seconds RetCode: 0 Status: OK PackageFile: triplex_1.46.0.tar.gz PackageFileSize: 599.8 KiB