Package: triplex Version: 1.46.0 Command: /Library/Frameworks/R.framework/Resources/bin/R CMD check --install=check:triplex.install-out.txt --library=/Library/Frameworks/R.framework/Resources/library --no-vignettes --timings triplex_1.46.0.tar.gz StartedAt: 2024-11-20 03:38:14 -0500 (Wed, 20 Nov 2024) EndedAt: 2024-11-20 03:43:08 -0500 (Wed, 20 Nov 2024) EllapsedTime: 294.2 seconds RetCode: 0 Status: WARNINGS CheckDir: triplex.Rcheck Warnings: 2