Package: trio Version: 3.44.0 Command: /home/biocbuild/R/R/bin/R CMD INSTALL trio StartedAt: 2025-02-03 21:10:04 -0000 (Mon, 03 Feb 2025) EndedAt: 2025-02-03 21:10:37 -0000 (Mon, 03 Feb 2025) EllapsedTime: 32.7 seconds RetCode: 0 Status: OK