Package: trio Version: 3.44.0 Command: /home/biocbuild/R/R/bin/R CMD build --keep-empty-dirs --no-resave-data trio StartedAt: 2025-01-28 03:56:28 -0000 (Tue, 28 Jan 2025) EndedAt: 2025-01-28 03:57:34 -0000 (Tue, 28 Jan 2025) EllapsedTime: 66.0 seconds RetCode: 0 Status: OK PackageFile: trio_3.44.0.tar.gz PackageFileSize: 737.4 KiB