Package: trio Version: 3.44.0 Command: F:\biocbuild\bbs-3.20-bioc\R\bin\R.exe CMD INSTALL trio StartedAt: 2025-01-27 16:45:38 -0500 (Mon, 27 Jan 2025) EndedAt: 2025-01-27 16:46:24 -0500 (Mon, 27 Jan 2025) EllapsedTime: 45.6 seconds RetCode: 0 Status: OK