Package: trio Version: 3.44.0 Command: rm -rf trio.buildbin-libdir && mkdir trio.buildbin-libdir && F:\biocbuild\bbs-3.20-bioc\R\bin\R.exe CMD INSTALL --build --library=trio.buildbin-libdir trio_3.44.0.tar.gz StartedAt: 2025-01-28 09:21:26 -0500 (Tue, 28 Jan 2025) EndedAt: 2025-01-28 09:22:31 -0500 (Tue, 28 Jan 2025) EllapsedTime: 65.4 seconds RetCode: 0 Status: OK PackageFile: trio_3.44.0.zip PackageFileSize: 1.558 MiB