Package: trio Version: 3.44.0 Command: /Library/Frameworks/R.framework/Resources/bin/R CMD check --install=check:trio.install-out.txt --library=/Library/Frameworks/R.framework/Resources/library --no-vignettes --timings trio_3.44.0.tar.gz StartedAt: 2025-04-01 10:33:13 -0400 (Tue, 01 Apr 2025) EndedAt: 2025-04-01 10:38:39 -0400 (Tue, 01 Apr 2025) EllapsedTime: 325.4 seconds RetCode: 0 Status: OK CheckDir: trio.Rcheck Warnings: 0