Package: trigger Version: 1.52.0 Command: /home/biocbuild/R/R/bin/R CMD INSTALL trigger StartedAt: 2025-01-27 21:51:02 -0000 (Mon, 27 Jan 2025) EndedAt: 2025-01-27 21:51:35 -0000 (Mon, 27 Jan 2025) EllapsedTime: 32.8 seconds RetCode: 0 Status: OK