Package: trigger Version: 1.52.0 Command: /home/biocbuild/R/R/bin/R CMD build --keep-empty-dirs --no-resave-data trigger StartedAt: 2025-01-28 03:56:20 -0000 (Tue, 28 Jan 2025) EndedAt: 2025-01-28 03:58:50 -0000 (Tue, 28 Jan 2025) EllapsedTime: 149.1 seconds RetCode: 0 Status: OK PackageFile: trigger_1.52.0.tar.gz PackageFileSize: 1.829 MiB