Package: trigger Version: 1.52.0 Command: F:\biocbuild\bbs-3.20-bioc\R\bin\R.exe CMD INSTALL trigger StartedAt: 2025-03-31 16:44:27 -0400 (Mon, 31 Mar 2025) EndedAt: 2025-03-31 16:45:08 -0400 (Mon, 31 Mar 2025) EllapsedTime: 40.8 seconds RetCode: 0 Status: OK