Package: trigger Version: 1.52.0 Command: /home/biocbuild/bbs-3.20-bioc/R/bin/R CMD INSTALL trigger StartedAt: 2025-01-27 16:41:10 -0500 (Mon, 27 Jan 2025) EndedAt: 2025-01-27 16:41:41 -0500 (Mon, 27 Jan 2025) EllapsedTime: 31.7 seconds RetCode: 0 Status: OK