Package: trigger Version: 1.52.0 Command: /Library/Frameworks/R.framework/Resources/bin/R CMD build --keep-empty-dirs --no-resave-data trigger StartedAt: 2025-03-31 22:41:39 -0400 (Mon, 31 Mar 2025) EndedAt: 2025-03-31 22:46:19 -0400 (Mon, 31 Mar 2025) EllapsedTime: 279.1 seconds RetCode: 0 Status: OK PackageFile: trigger_1.52.0.tar.gz PackageFileSize: 1.839 MiB