Package: trigger Version: 1.52.0 Command: /Library/Frameworks/R.framework/Resources/bin/R CMD INSTALL trigger StartedAt: 2025-02-03 17:28:41 -0500 (Mon, 03 Feb 2025) EndedAt: 2025-02-03 17:29:11 -0500 (Mon, 03 Feb 2025) EllapsedTime: 30.4 seconds RetCode: 0 Status: OK