Package: tricycle Version: 1.14.0 Command: /home/biocbuild/R/R/bin/R CMD INSTALL tricycle StartedAt: 2025-03-31 21:03:38 -0000 (Mon, 31 Mar 2025) EndedAt: 2025-03-31 21:04:18 -0000 (Mon, 31 Mar 2025) EllapsedTime: 40.0 seconds RetCode: 0 Status: OK