Package: tricycle Version: 1.14.0 Command: F:\biocbuild\bbs-3.20-bioc\R\bin\R.exe CMD INSTALL tricycle StartedAt: 2025-01-27 16:56:49 -0500 (Mon, 27 Jan 2025) EndedAt: 2025-01-27 16:57:27 -0500 (Mon, 27 Jan 2025) EllapsedTime: 38.1 seconds RetCode: 0 Status: OK