Package: tricycle Version: 1.14.0 Command: /Library/Frameworks/R.framework/Resources/bin/R CMD build --keep-empty-dirs --no-resave-data tricycle StartedAt: 2025-01-27 23:17:08 -0500 (Mon, 27 Jan 2025) EndedAt: 2025-01-27 23:19:21 -0500 (Mon, 27 Jan 2025) EllapsedTime: 132.5 seconds RetCode: 0 Status: OK PackageFile: tricycle_1.14.0.tar.gz PackageFileSize: 4.099 MiB