Package: tricycle Version: 1.14.0 Command: /Library/Frameworks/R.framework/Resources/bin/R CMD INSTALL tricycle StartedAt: 2024-11-19 15:41:39 -0500 (Tue, 19 Nov 2024) EndedAt: 2024-11-19 15:42:23 -0500 (Tue, 19 Nov 2024) EllapsedTime: 44.4 seconds RetCode: 0 Status: OK