Package: treekoR Version: 1.14.0 Command: /home/biocbuild/R/R/bin/R CMD build --keep-empty-dirs --no-resave-data treekoR StartedAt: 2025-04-01 03:16:53 -0000 (Tue, 01 Apr 2025) EndedAt: 2025-04-01 03:18:36 -0000 (Tue, 01 Apr 2025) EllapsedTime: 102.1 seconds RetCode: 0 Status: OK PackageFile: treekoR_1.14.0.tar.gz PackageFileSize: 1.639 MiB