Package: treekoR Version: 1.14.0 Command: F:\biocbuild\bbs-3.20-bioc\R\bin\R.exe CMD check --no-multiarch --install=check:treekoR.install-out.txt --library=F:\biocbuild\bbs-3.20-bioc\R\library --no-vignettes --timings treekoR_1.14.0.tar.gz StartedAt: 2025-04-01 06:57:27 -0400 (Tue, 01 Apr 2025) EndedAt: 2025-04-01 07:03:03 -0400 (Tue, 01 Apr 2025) EllapsedTime: 336.1 seconds RetCode: 0 Status: OK CheckDir: treekoR.Rcheck Warnings: 0