Package: treekoR Version: 1.14.0 Command: /Library/Frameworks/R.framework/Resources/bin/R CMD check --install=check:treekoR.install-out.txt --library=/Library/Frameworks/R.framework/Resources/library --no-vignettes --timings treekoR_1.14.0.tar.gz StartedAt: 2025-04-02 11:56:01 -0400 (Wed, 02 Apr 2025) EndedAt: 2025-04-02 12:01:27 -0400 (Wed, 02 Apr 2025) EllapsedTime: 326.1 seconds RetCode: 0 Status: OK CheckDir: treekoR.Rcheck Warnings: 0