Package: treekoR Version: 1.14.0 Command: /Library/Frameworks/R.framework/Resources/bin/R CMD build --keep-empty-dirs --no-resave-data treekoR StartedAt: 2025-01-31 09:45:39 -0500 (Fri, 31 Jan 2025) EndedAt: 2025-01-31 09:47:17 -0500 (Fri, 31 Jan 2025) EllapsedTime: 97.9 seconds RetCode: 0 Status: OK PackageFile: treekoR_1.14.0.tar.gz PackageFileSize: 1.58 MiB