Package: treekoR Version: 1.14.0 Command: rm -rf treekoR.buildbin-libdir && mkdir treekoR.buildbin-libdir && /Users/biocbuild/BBS/utils/build-universal.sh treekoR_1.14.0.tar.gz /Library/Frameworks/R.framework/Resources/bin/R treekoR.buildbin-libdir StartedAt: 2025-04-02 16:42:13 -0400 (Wed, 02 Apr 2025) EndedAt: 2025-04-02 16:42:56 -0400 (Wed, 02 Apr 2025) EllapsedTime: 42.9 seconds RetCode: 0 Status: OK PackageFile: treekoR_1.14.0.tgz PackageFileSize: 1.652 MiB