Package: treeclimbR Version: 1.2.0 Command: /home/biocbuild/R/R/bin/R CMD INSTALL treeclimbR StartedAt: 2025-02-03 21:22:28 -0000 (Mon, 03 Feb 2025) EndedAt: 2025-02-03 21:23:15 -0000 (Mon, 03 Feb 2025) EllapsedTime: 46.6 seconds RetCode: 0 Status: OK