Package: treeclimbR Version: 1.2.0 Command: /home/biocbuild/R/R/bin/R CMD build --keep-empty-dirs --no-resave-data treeclimbR StartedAt: 2025-02-04 03:38:48 -0000 (Tue, 04 Feb 2025) EndedAt: 2025-02-04 03:40:29 -0000 (Tue, 04 Feb 2025) EllapsedTime: 101.2 seconds RetCode: 0 Status: OK PackageFile: treeclimbR_1.2.0.tar.gz PackageFileSize: 607.3 KiB