Package: treeclimbR Version: 1.2.0 Command: F:\biocbuild\bbs-3.20-bioc\R\bin\R.exe CMD INSTALL treeclimbR StartedAt: 2025-03-31 17:02:52 -0400 (Mon, 31 Mar 2025) EndedAt: 2025-03-31 17:04:03 -0400 (Mon, 31 Mar 2025) EllapsedTime: 70.9 seconds RetCode: 0 Status: OK