Package: traviz Version: 1.12.0 Command: /Library/Frameworks/R.framework/Resources/bin/R CMD check --install=check:traviz.install-out.txt --library=/Library/Frameworks/R.framework/Resources/library --no-vignettes --timings traviz_1.12.0.tar.gz StartedAt: 2025-04-02 11:53:09 -0400 (Wed, 02 Apr 2025) EndedAt: 2025-04-02 11:56:56 -0400 (Wed, 02 Apr 2025) EllapsedTime: 227.8 seconds RetCode: 0 Status: OK CheckDir: traviz.Rcheck Warnings: 0