Package: traviz Version: 1.12.0 Command: /Library/Frameworks/R.framework/Resources/bin/R CMD build --keep-empty-dirs --no-resave-data traviz StartedAt: 2025-04-01 09:29:20 -0400 (Tue, 01 Apr 2025) EndedAt: 2025-04-01 09:30:16 -0400 (Tue, 01 Apr 2025) EllapsedTime: 55.9 seconds RetCode: 0 Status: OK PackageFile: traviz_1.12.0.tar.gz PackageFileSize: 3.638 MiB