Package: traviz Version: 1.12.0 Command: rm -rf traviz.buildbin-libdir && mkdir traviz.buildbin-libdir && /Users/biocbuild/BBS/utils/build-universal.sh traviz_1.12.0.tar.gz /Library/Frameworks/R.framework/Resources/bin/R traviz.buildbin-libdir StartedAt: 2025-04-02 16:41:57 -0400 (Wed, 02 Apr 2025) EndedAt: 2025-04-02 16:42:30 -0400 (Wed, 02 Apr 2025) EllapsedTime: 33.4 seconds RetCode: 0 Status: OK PackageFile: traviz_1.12.0.tgz PackageFileSize: 3.709 MiB