Package: traseR Version: 1.36.0 Command: /home/biocbuild/R/R/bin/R CMD INSTALL traseR StartedAt: 2025-02-10 20:32:37 -0000 (Mon, 10 Feb 2025) EndedAt: 2025-02-10 20:33:16 -0000 (Mon, 10 Feb 2025) EllapsedTime: 39.0 seconds RetCode: 0 Status: OK