Package: traseR Version: 1.36.0 Command: /home/biocbuild/R/R/bin/R CMD check --install=check:traseR.install-out.txt --library=/home/biocbuild/R/R/site-library --no-vignettes --timings traseR_1.36.0.tar.gz StartedAt: 2025-02-11 11:16:11 -0000 (Tue, 11 Feb 2025) EndedAt: 2025-02-11 11:21:30 -0000 (Tue, 11 Feb 2025) EllapsedTime: 319.5 seconds RetCode: 0 Status: OK CheckDir: traseR.Rcheck Warnings: 0