Package: traseR Version: 1.36.0 Command: /Library/Frameworks/R.framework/Resources/bin/R CMD build --keep-empty-dirs --no-resave-data traseR StartedAt: 2025-01-27 23:16:04 -0500 (Mon, 27 Jan 2025) EndedAt: 2025-01-27 23:17:59 -0500 (Mon, 27 Jan 2025) EllapsedTime: 114.6 seconds RetCode: 0 Status: OK PackageFile: traseR_1.36.0.tar.gz PackageFileSize: 6.221 MiB