Package: traseR Version: 1.36.0 Command: /Library/Frameworks/R.framework/Resources/bin/R CMD build --keep-empty-dirs --no-resave-data traseR StartedAt: 2025-04-01 09:28:44 -0400 (Tue, 01 Apr 2025) EndedAt: 2025-04-01 09:29:49 -0400 (Tue, 01 Apr 2025) EllapsedTime: 65.0 seconds RetCode: 0 Status: OK PackageFile: traseR_1.36.0.tar.gz PackageFileSize: 6.221 MiB