Package: transmogR Version: 1.2.0 Command: /home/biocbuild/R/R/bin/R CMD check --install=check:transmogR.install-out.txt --library=/home/biocbuild/R/R/site-library --no-vignettes --timings transmogR_1.2.0.tar.gz StartedAt: 2025-01-28 12:03:05 -0000 (Tue, 28 Jan 2025) EndedAt: 2025-01-28 12:09:28 -0000 (Tue, 28 Jan 2025) EllapsedTime: 382.5 seconds RetCode: 0 Status: OK CheckDir: transmogR.Rcheck Warnings: 0