Package: transmogR Version: 1.2.0 Command: /home/biocbuild/bbs-3.20-bioc/R/bin/R CMD build --keep-empty-dirs --no-resave-data --md5 transmogR StartedAt: 2025-03-31 19:29:29 -0400 (Mon, 31 Mar 2025) EndedAt: 2025-03-31 19:30:38 -0400 (Mon, 31 Mar 2025) EllapsedTime: 69.2 seconds RetCode: 0 Status: OK PackageFile: transmogR_1.2.0.tar.gz PackageFileSize: 571 KiB