Package: transmogR Version: 1.2.0 Command: /Library/Frameworks/R.framework/Resources/bin/R CMD INSTALL transmogR StartedAt: 2025-03-31 15:37:45 -0400 (Mon, 31 Mar 2025) EndedAt: 2025-03-31 15:39:04 -0400 (Mon, 31 Mar 2025) EllapsedTime: 78.8 seconds RetCode: 0 Status: OK