Package: transite Version: 1.24.0 Command: F:\biocbuild\bbs-3.20-bioc\R\bin\R.exe CMD INSTALL transite StartedAt: 2025-01-27 15:45:54 -0500 (Mon, 27 Jan 2025) EndedAt: 2025-01-27 15:46:45 -0500 (Mon, 27 Jan 2025) EllapsedTime: 50.5 seconds RetCode: 0 Status: OK