Package: transite Version: 1.24.0 Command: /home/biocbuild/bbs-3.20-bioc/R/bin/R CMD INSTALL transite StartedAt: 2025-01-27 16:07:16 -0500 (Mon, 27 Jan 2025) EndedAt: 2025-01-27 16:07:38 -0500 (Mon, 27 Jan 2025) EllapsedTime: 21.6 seconds RetCode: 0 Status: OK