Package: transite Version: 1.24.0 Command: rm -rf transite.buildbin-libdir && mkdir transite.buildbin-libdir && /Users/biocbuild/BBS/utils/build-universal.sh transite_1.24.0.tar.gz /Library/Frameworks/R.framework/Resources/bin/R transite.buildbin-libdir StartedAt: 2025-01-28 14:48:10 -0500 (Tue, 28 Jan 2025) EndedAt: 2025-01-28 14:49:16 -0500 (Tue, 28 Jan 2025) EllapsedTime: 65.3 seconds RetCode: 0 Status: OK PackageFile: transite_1.24.0.tgz PackageFileSize: 1.007 MiB