Package: transite Version: 1.24.0 Command: /Library/Frameworks/R.framework/Resources/bin/R CMD check --install=check:transite.install-out.txt --library=/Library/Frameworks/R.framework/Resources/library --no-vignettes --timings transite_1.24.0.tar.gz StartedAt: 2025-04-02 11:46:04 -0400 (Wed, 02 Apr 2025) EndedAt: 2025-04-02 11:57:02 -0400 (Wed, 02 Apr 2025) EllapsedTime: 657.9 seconds RetCode: 0 Status: OK CheckDir: transite.Rcheck Warnings: 0