Package: transcriptogramer Version: 1.28.0 Command: /home/biocbuild/R/R/bin/R CMD build --keep-empty-dirs --no-resave-data transcriptogramer StartedAt: 2025-01-31 03:15:42 -0000 (Fri, 31 Jan 2025) EndedAt: 2025-01-31 03:35:48 -0000 (Fri, 31 Jan 2025) EllapsedTime: 1206.2 seconds RetCode: 0 Status: OK PackageFile: transcriptogramer_1.28.0.tar.gz PackageFileSize: 3.655 MiB