Package: transcriptogramer Version: 1.28.0 Command: /Library/Frameworks/R.framework/Resources/bin/R CMD INSTALL transcriptogramer StartedAt: 2025-03-31 15:48:26 -0400 (Mon, 31 Mar 2025) EndedAt: 2025-03-31 15:49:22 -0400 (Mon, 31 Mar 2025) EllapsedTime: 55.9 seconds RetCode: 0 Status: OK