Package: transcriptogramer Version: 1.28.0 Command: /Library/Frameworks/R.framework/Resources/bin/R CMD INSTALL transcriptogramer StartedAt: 2025-02-10 16:35:19 -0500 (Mon, 10 Feb 2025) EndedAt: 2025-02-10 16:35:51 -0500 (Mon, 10 Feb 2025) EllapsedTime: 32.1 seconds RetCode: 0 Status: OK