Package: transcriptR Version: 1.34.0 Command: F:\biocbuild\bbs-3.20-bioc\R\bin\R.exe CMD INSTALL transcriptR StartedAt: 2025-01-27 16:48:40 -0500 (Mon, 27 Jan 2025) EndedAt: 2025-01-27 16:49:52 -0500 (Mon, 27 Jan 2025) EllapsedTime: 72.1 seconds RetCode: 0 Status: OK