Package: transcriptR Version: 1.34.0 Command: F:\biocbuild\bbs-3.20-bioc\R\bin\R.exe CMD check --no-multiarch --install=check:transcriptR.install-out.txt --library=F:\biocbuild\bbs-3.20-bioc\R\library --no-vignettes --timings transcriptR_1.34.0.tar.gz StartedAt: 2025-01-28 06:51:29 -0500 (Tue, 28 Jan 2025) EndedAt: 2025-01-28 06:59:30 -0500 (Tue, 28 Jan 2025) EllapsedTime: 481.1 seconds RetCode: 0 Status: OK CheckDir: transcriptR.Rcheck Warnings: 0