Package: tradeSeq Version: 1.20.0 Command: /home/biocbuild/R/R/bin/R CMD check --install=check:tradeSeq.install-out.txt --library=/home/biocbuild/R/R/site-library --no-vignettes --timings tradeSeq_1.20.0.tar.gz StartedAt: 2025-01-31 11:10:04 -0000 (Fri, 31 Jan 2025) EndedAt: 2025-01-31 11:32:04 -0000 (Fri, 31 Jan 2025) EllapsedTime: 1319.9 seconds RetCode: 0 Status: OK CheckDir: tradeSeq.Rcheck Warnings: 0