Package: tradeSeq Version: 1.20.0 Command: /home/biocbuild/R/R/bin/R CMD build --keep-empty-dirs --no-resave-data tradeSeq StartedAt: 2025-04-01 03:14:45 -0000 (Tue, 01 Apr 2025) EndedAt: 2025-04-01 03:23:41 -0000 (Tue, 01 Apr 2025) EllapsedTime: 535.6 seconds RetCode: 0 Status: OK PackageFile: tradeSeq_1.20.0.tar.gz PackageFileSize: 3.481 MiB