Package: tracktables Version: 1.40.0 Command: /home/biocbuild/R/R/bin/R CMD INSTALL tracktables StartedAt: 2025-02-13 20:36:06 -0000 (Thu, 13 Feb 2025) EndedAt: 2025-02-13 20:36:23 -0000 (Thu, 13 Feb 2025) EllapsedTime: 17.1 seconds RetCode: 0 Status: OK