Package: tracktables Version: 1.40.0 Command: /home/biocbuild/R/R/bin/R CMD build --keep-empty-dirs --no-resave-data tracktables StartedAt: 2025-02-14 03:26:26 -0000 (Fri, 14 Feb 2025) EndedAt: 2025-02-14 03:26:51 -0000 (Fri, 14 Feb 2025) EllapsedTime: 25.0 seconds RetCode: 0 Status: OK PackageFile: tracktables_1.40.0.tar.gz PackageFileSize: 347.6 KiB