Package: tracktables Version: 1.40.0 Command: F:\biocbuild\bbs-3.20-bioc\R\bin\R.exe CMD INSTALL tracktables StartedAt: 2025-02-13 16:21:06 -0500 (Thu, 13 Feb 2025) EndedAt: 2025-02-13 16:21:26 -0500 (Thu, 13 Feb 2025) EllapsedTime: 20.0 seconds RetCode: 0 Status: OK